BEGIN:VCALENDAR
VERSION:2.0
PRODID:-//ViaVRij Vrouwenvereniging Rijsbergen - ECPv6.15.20//NONSGML v1.0//EN
CALSCALE:GREGORIAN
METHOD:PUBLISH
X-WR-CALNAME:ViaVRij Vrouwenvereniging Rijsbergen
X-ORIGINAL-URL:https://viavrij.nl
X-WR-CALDESC:Evenementen voor ViaVRij Vrouwenvereniging Rijsbergen
REFRESH-INTERVAL;VALUE=DURATION:PT1H
X-Robots-Tag:noindex
X-PUBLISHED-TTL:PT1H
BEGIN:VTIMEZONE
TZID:Europe/Amsterdam
BEGIN:DAYLIGHT
TZOFFSETFROM:+0100
TZOFFSETTO:+0200
TZNAME:CEST
DTSTART:20250330T010000
END:DAYLIGHT
BEGIN:STANDARD
TZOFFSETFROM:+0200
TZOFFSETTO:+0100
TZNAME:CET
DTSTART:20251026T010000
END:STANDARD
BEGIN:DAYLIGHT
TZOFFSETFROM:+0100
TZOFFSETTO:+0200
TZNAME:CEST
DTSTART:20260329T010000
END:DAYLIGHT
BEGIN:STANDARD
TZOFFSETFROM:+0200
TZOFFSETTO:+0100
TZNAME:CET
DTSTART:20261025T010000
END:STANDARD
BEGIN:DAYLIGHT
TZOFFSETFROM:+0100
TZOFFSETTO:+0200
TZNAME:CEST
DTSTART:20270328T010000
END:DAYLIGHT
BEGIN:STANDARD
TZOFFSETFROM:+0200
TZOFFSETTO:+0100
TZNAME:CET
DTSTART:20271031T010000
END:STANDARD
END:VTIMEZONE
BEGIN:VEVENT
DTSTART;TZID=Europe/Amsterdam:20260415T130000
DTEND;TZID=Europe/Amsterdam:20260415T180000
DTSTAMP:20260421T002517
CREATED:20250807T191900Z
LAST-MODIFIED:20260304T215124Z
UID:3524-1776258000-1776276000@viavrij.nl
SUMMARY:Rondleiding Schrobbeler Tilburg
DESCRIPTION:Rondleiding Schrobbeler Tilburg. Je wordt meegenomen in de Bourgondische wereld van de kruidenlikeur. \nDe Rondleiding is van 14.00 tot 17.00 uur.  \nDe eigen bijdrage is ca. € 37\,50 (voor de kosten van de bus en de rondleiding in Tilburg). \nWil je meer weten over wat de rondleiding inhoudt\, kijk dan op website van Schrobbeler  https://www.schrobbeler.nl/rondleiding/ \nEr zijn inmiddels voldoende aanmeldingen om een bus te laten rijden. \nEr kunnen nog mensen bij\, dus aanmelden kan nog tot 9 maart. Meld je svp zo spoedig mogelijk aan. \nMaar ook hiervoor geldt\, als de bus vol is\, maken we een reservelijst voor mogelijk afmeldingen. \nMeer informatie \, vertrektijd  en vertrekplaats  in Rijsbergen en kosten volgt tzt. \n  \n 
URL:https://viavrij.nl/event/rondleiding-schrobbeler-tilburg/
LOCATION:Schrobbeler\, Polluxstraat 29\, Tilburg\, Noord-Brabant
CATEGORIES:excursie
ORGANIZER;CN="Via VRij Vrouwenvereniging Rijsbergen":MAILTO:info@viavrij.nl
END:VEVENT
END:VCALENDAR