BEGIN:VCALENDAR
VERSION:2.0
PRODID:-//ViaVRij Vrouwenvereniging Rijsbergen - ECPv6.15.20//NONSGML v1.0//EN
CALSCALE:GREGORIAN
METHOD:PUBLISH
X-ORIGINAL-URL:https://viavrij.nl
X-WR-CALDESC:Evenementen voor ViaVRij Vrouwenvereniging Rijsbergen
REFRESH-INTERVAL;VALUE=DURATION:PT1H
X-Robots-Tag:noindex
X-PUBLISHED-TTL:PT1H
BEGIN:VTIMEZONE
TZID:Europe/Amsterdam
BEGIN:DAYLIGHT
TZOFFSETFROM:+0100
TZOFFSETTO:+0200
TZNAME:CEST
DTSTART:20250330T010000
END:DAYLIGHT
BEGIN:STANDARD
TZOFFSETFROM:+0200
TZOFFSETTO:+0100
TZNAME:CET
DTSTART:20251026T010000
END:STANDARD
BEGIN:DAYLIGHT
TZOFFSETFROM:+0100
TZOFFSETTO:+0200
TZNAME:CEST
DTSTART:20260329T010000
END:DAYLIGHT
BEGIN:STANDARD
TZOFFSETFROM:+0200
TZOFFSETTO:+0100
TZNAME:CET
DTSTART:20261025T010000
END:STANDARD
BEGIN:DAYLIGHT
TZOFFSETFROM:+0100
TZOFFSETTO:+0200
TZNAME:CEST
DTSTART:20270328T010000
END:DAYLIGHT
BEGIN:STANDARD
TZOFFSETFROM:+0200
TZOFFSETTO:+0100
TZNAME:CET
DTSTART:20271031T010000
END:STANDARD
END:VTIMEZONE
BEGIN:VEVENT
DTSTART;TZID=Europe/Amsterdam:20260103T201500
DTEND;TZID=Europe/Amsterdam:20260103T220000
DTSTAMP:20260420T200910
CREATED:20250520T124927Z
LAST-MODIFIED:20260304T215649Z
UID:3100-1767471300-1767477600@viavrij.nl
SUMMARY:The story of the Cats – Winter is here.
DESCRIPTION:Laat je meevoeren in winterse sferen door de muziek van de Volendamse band The Cats. \nBeleef de grootste hits en verborgen parels van de legendarische Volendamse band The Cats\, vertolkt door topmuzikanten. \nWaan je op de beroemde dijk in Volendam en geniet van de grondleggers van de Palingsound.
URL:https://viavrij.nl/event/the-story-of-the-cats-winter-is-here/
LOCATION:Nobelaer ; Etten Leur\, Parklaan 2\, Etten Leur\, Noord Brabant\, 4611 TE
CATEGORIES:theater
ORGANIZER;CN="Via VRij Vrouwenvereniging Rijsbergen":MAILTO:info@viavrij.nl
END:VEVENT
BEGIN:VEVENT
DTSTART;TZID=Europe/Amsterdam:20260108T201500
DTEND;TZID=Europe/Amsterdam:20260108T220000
DTSTAMP:20260420T200910
CREATED:20250520T125122Z
LAST-MODIFIED:20260304T215629Z
UID:3104-1767903300-1767909600@viavrij.nl
SUMMARY:Tineke Schouten - Femme vitaal
DESCRIPTION:Achter de geraniums zitten is niks voor Tineke Schouten. \nDus gaat ze op zoek naar het geheim van de eeuwige jeugd. \nEen zoektocht met een daverende lach en ontroerende liedjes. \n 
URL:https://viavrij.nl/event/tineke-schouten-femme-vitaal/
LOCATION:Nobelaer ; Etten Leur\, Parklaan 2\, Etten Leur\, Noord Brabant\, 4611 TE
CATEGORIES:theater
ORGANIZER;CN="Via VRij Vrouwenvereniging Rijsbergen":MAILTO:info@viavrij.nl
END:VEVENT
BEGIN:VEVENT
DTSTART;TZID=Europe/Amsterdam:20260127T201500
DTEND;TZID=Europe/Amsterdam:20260127T220000
DTSTAMP:20260420T200910
CREATED:20250520T125355Z
LAST-MODIFIED:20260304T215548Z
UID:3108-1769544900-1769551200@viavrij.nl
SUMMARY:Tis hier geen hotel 3.
DESCRIPTION:Humoristische voorstelling door Hanneke Drenth en Dianne Liesker. \nLeven met pubers is nooit saai. \nDe keuken en badkamer zijn ontploft\, Tikkies vliegen om de oren en als ouder word je demure als delulu genoemd. \nZe regelen  zelfstandig een bijbaantje en vullen hun belastingformulier in\, maar de was belandt nog steeds naast de wasmand.
URL:https://viavrij.nl/event/tis-hier-geen-hotel-3/
LOCATION:Nobelaer ; Etten Leur\, Parklaan 2\, Etten Leur\, Noord Brabant\, 4611 TE
CATEGORIES:theater
ORGANIZER;CN="Via VRij Vrouwenvereniging Rijsbergen":MAILTO:info@viavrij.nl
END:VEVENT
BEGIN:VEVENT
DTSTART;TZID=Europe/Amsterdam:20260129T150000
DTEND;TZID=Europe/Amsterdam:20260129T170000
DTSTAMP:20260420T200910
CREATED:20250520T125618Z
LAST-MODIFIED:20260304T215530Z
UID:3112-1769698800-1769706000@viavrij.nl
SUMMARY:Als de dag van toen: (Middagvoorstelling: 15.00 uur)
DESCRIPTION:Henk Poort en Anne-Mieke Ruyten brengen herinneringen weer tot leven met de mooiste muziek van toen. \nIn de plaatselijke bloemenzaak ondersteunen de dochters van Koos hun vader na het overlijden van hun moeder. \nWanneer de beroemde zanger Toon in de winkel komt\, wordt hij op slag verliefd op één van de dochters. \nDe voorstelling wordt muzikaal omlijst met liedjes uit de oude doos zoals Wil u een stekkie?\, De Krokus en de Hyacint of Hé\, niet zoenen op het zebrapad.
URL:https://viavrij.nl/event/als-de-dag-van-toen-middagvoorstelling-15-00-uur/
LOCATION:Nobelaer ; Etten Leur\, Parklaan 2\, Etten Leur\, Noord Brabant\, 4611 TE
CATEGORIES:theater
ORGANIZER;CN="Via VRij Vrouwenvereniging Rijsbergen":MAILTO:info@viavrij.nl
END:VEVENT
END:VCALENDAR