BEGIN:VCALENDAR
VERSION:2.0
PRODID:-//ViaVRij Vrouwenvereniging Rijsbergen - ECPv6.15.20//NONSGML v1.0//EN
CALSCALE:GREGORIAN
METHOD:PUBLISH
X-ORIGINAL-URL:https://viavrij.nl
X-WR-CALDESC:Evenementen voor ViaVRij Vrouwenvereniging Rijsbergen
REFRESH-INTERVAL;VALUE=DURATION:PT1H
X-Robots-Tag:noindex
X-PUBLISHED-TTL:PT1H
BEGIN:VTIMEZONE
TZID:Europe/Amsterdam
BEGIN:DAYLIGHT
TZOFFSETFROM:+0100
TZOFFSETTO:+0200
TZNAME:CEST
DTSTART:20250330T010000
END:DAYLIGHT
BEGIN:STANDARD
TZOFFSETFROM:+0200
TZOFFSETTO:+0100
TZNAME:CET
DTSTART:20251026T010000
END:STANDARD
BEGIN:DAYLIGHT
TZOFFSETFROM:+0100
TZOFFSETTO:+0200
TZNAME:CEST
DTSTART:20260329T010000
END:DAYLIGHT
BEGIN:STANDARD
TZOFFSETFROM:+0200
TZOFFSETTO:+0100
TZNAME:CET
DTSTART:20261025T010000
END:STANDARD
BEGIN:DAYLIGHT
TZOFFSETFROM:+0100
TZOFFSETTO:+0200
TZNAME:CEST
DTSTART:20270328T010000
END:DAYLIGHT
BEGIN:STANDARD
TZOFFSETFROM:+0200
TZOFFSETTO:+0100
TZNAME:CET
DTSTART:20271031T010000
END:STANDARD
END:VTIMEZONE
BEGIN:VEVENT
DTSTART;TZID=Europe/Amsterdam:20260127T201500
DTEND;TZID=Europe/Amsterdam:20260127T220000
DTSTAMP:20260421T011448
CREATED:20250520T125355Z
LAST-MODIFIED:20260304T215548Z
UID:3108-1769544900-1769551200@viavrij.nl
SUMMARY:Tis hier geen hotel 3.
DESCRIPTION:Humoristische voorstelling door Hanneke Drenth en Dianne Liesker. \nLeven met pubers is nooit saai. \nDe keuken en badkamer zijn ontploft\, Tikkies vliegen om de oren en als ouder word je demure als delulu genoemd. \nZe regelen  zelfstandig een bijbaantje en vullen hun belastingformulier in\, maar de was belandt nog steeds naast de wasmand.
URL:https://viavrij.nl/event/tis-hier-geen-hotel-3/
LOCATION:Nobelaer ; Etten Leur\, Parklaan 2\, Etten Leur\, Noord Brabant\, 4611 TE
CATEGORIES:theater
ORGANIZER;CN="Via VRij Vrouwenvereniging Rijsbergen":MAILTO:info@viavrij.nl
END:VEVENT
BEGIN:VEVENT
DTSTART;TZID=Europe/Amsterdam:20260129T150000
DTEND;TZID=Europe/Amsterdam:20260129T170000
DTSTAMP:20260421T011448
CREATED:20250520T125618Z
LAST-MODIFIED:20260304T215530Z
UID:3112-1769698800-1769706000@viavrij.nl
SUMMARY:Als de dag van toen: (Middagvoorstelling: 15.00 uur)
DESCRIPTION:Henk Poort en Anne-Mieke Ruyten brengen herinneringen weer tot leven met de mooiste muziek van toen. \nIn de plaatselijke bloemenzaak ondersteunen de dochters van Koos hun vader na het overlijden van hun moeder. \nWanneer de beroemde zanger Toon in de winkel komt\, wordt hij op slag verliefd op één van de dochters. \nDe voorstelling wordt muzikaal omlijst met liedjes uit de oude doos zoals Wil u een stekkie?\, De Krokus en de Hyacint of Hé\, niet zoenen op het zebrapad.
URL:https://viavrij.nl/event/als-de-dag-van-toen-middagvoorstelling-15-00-uur/
LOCATION:Nobelaer ; Etten Leur\, Parklaan 2\, Etten Leur\, Noord Brabant\, 4611 TE
CATEGORIES:theater
ORGANIZER;CN="Via VRij Vrouwenvereniging Rijsbergen":MAILTO:info@viavrij.nl
END:VEVENT
BEGIN:VEVENT
DTSTART;TZID=Europe/Amsterdam:20260225T201500
DTEND;TZID=Europe/Amsterdam:20260225T220000
DTSTAMP:20260421T011448
CREATED:20250520T125826Z
LAST-MODIFIED:20260304T215250Z
UID:3116-1772050500-1772056800@viavrij.nl
SUMMARY:Bee Gees by Maincourse.
DESCRIPTION:Energieke show vol humor\, variërend van tijdloze ballads tot swingende disco-hits. \nYou Should Be Dancing!  \nDe winnaar The Tribute – Battle of the Bands in 2024\, toen nog bekend als Bee Gees Forever.
URL:https://viavrij.nl/event/bee-gees-by-maincourse/
LOCATION:Nobelaer ; Etten Leur\, Parklaan 2\, Etten Leur\, Noord Brabant\, 4611 TE
CATEGORIES:theater
ORGANIZER;CN="Via VRij Vrouwenvereniging Rijsbergen":MAILTO:info@viavrij.nl
END:VEVENT
BEGIN:VEVENT
DTSTART;TZID=Europe/Amsterdam:20260313T201500
DTEND;TZID=Europe/Amsterdam:20260313T220000
DTSTAMP:20260421T011448
CREATED:20250520T130009Z
LAST-MODIFIED:20260318T101528Z
UID:3120-1773432900-1773439200@viavrij.nl
SUMMARY:Petticoat - Theatergroep Josjes.
DESCRIPTION:Het verhaal van de Groningse Pattie Jagersma\, die een beroemd zangeres wil worden. \nOm haar droom na te jagen vertrekt ze vanuit Winschoten naar het grote\, intimiderende Amsterdam. \nEen musical met humor en ontroering\, de grote verschillen tussen provincie en de grote stad en het eeuwige dilemma van ouders om hun kinderen los te laten.
URL:https://viavrij.nl/event/petticoat-theatergroep-josjes/
LOCATION:Nobelaer ; Etten Leur\, Parklaan 2\, Etten Leur\, Noord Brabant\, 4611 TE
CATEGORIES:theater
ORGANIZER;CN="Via VRij Vrouwenvereniging Rijsbergen":MAILTO:info@viavrij.nl
END:VEVENT
BEGIN:VEVENT
DTSTART;TZID=Europe/Amsterdam:20260402T201500
DTEND;TZID=Europe/Amsterdam:20260402T220000
DTSTAMP:20260421T011448
CREATED:20250526T063855Z
LAST-MODIFIED:20260304T215203Z
UID:3153-1775160900-1775167200@viavrij.nl
SUMMARY:Huub Stapel – Mannen komen van Mars en vrouwen van Venus.
DESCRIPTION:Huub Stapel biedt met deze one-man-show een verfrissende en hilarische kijk op onze eeuwige pogingen elkaar te begrijpen.
URL:https://viavrij.nl/event/huub-stapel-mannen-komen-van-mars-en-vrouwen-van-venus/
LOCATION:Nobelaer ; Etten Leur\, Parklaan 2\, Etten Leur\, Noord Brabant\, 4611 TE
CATEGORIES:theater
ORGANIZER;CN="Via VRij Vrouwenvereniging Rijsbergen":MAILTO:info@viavrij.nl
END:VEVENT
BEGIN:VEVENT
DTSTART;TZID=Europe/Amsterdam:20260415T201500
DTEND;TZID=Europe/Amsterdam:20260415T220000
DTSTAMP:20260421T011448
CREATED:20250526T064152Z
LAST-MODIFIED:20260304T215107Z
UID:3157-1776284100-1776290400@viavrij.nl
SUMMARY:Opvliegers op safari – Een muzikale vriendinnen comedy.
DESCRIPTION:Met een mix van muziek\, humor\, herkenning en emotie laat Opvliegers op safari je lachen en soms even slikken. \nEen avond vol girlpower\, onverwachte wendingen en vooral de bevestiging dat het leven – hoe grillig ook – altijd gevierd moet worden.
URL:https://viavrij.nl/event/opvliegers-op-safari-een-muzikale-vriendinnen-comedy/
LOCATION:Nobelaer ; Etten Leur\, Parklaan 2\, Etten Leur\, Noord Brabant\, 4611 TE
CATEGORIES:theater
ORGANIZER;CN="Via VRij Vrouwenvereniging Rijsbergen":MAILTO:info@viavrij.nl
END:VEVENT
BEGIN:VEVENT
DTSTART;TZID=Europe/Amsterdam:20260430T201500
DTEND;TZID=Europe/Amsterdam:20260430T220000
DTSTAMP:20260421T011448
CREATED:20250520T130336Z
LAST-MODIFIED:20260304T215007Z
UID:3124-1777580100-1777586400@viavrij.nl
SUMMARY:Ons pap wil bij de revue.
DESCRIPTION:Je dacht dat je het allemaal al gezien had? \nDeze wervelwind van grappige sketches\, opzwepende dans en aanstekelijke liedjes biedt tegelijkertijd actuele hilariteit én nostalgie. \nToneel: Drie oude bekenden (Jon van Eerd\, Stanley Burleson en Arie Cupé) brengen met vier jonge talenten een revue met een verrassende twist. Zij dagen elkaar uit om tradities los te laten en zich te laten verleiden door de tijd van nu.
URL:https://viavrij.nl/event/ons-pap-wil-bij-de-revue/
LOCATION:Nobelaer ; Etten Leur\, Parklaan 2\, Etten Leur\, Noord Brabant\, 4611 TE
CATEGORIES:theater
ORGANIZER;CN="Via VRij Vrouwenvereniging Rijsbergen":MAILTO:info@viavrij.nl
END:VEVENT
BEGIN:VEVENT
DTSTART;TZID=Europe/Amsterdam:20260516T201500
DTEND;TZID=Europe/Amsterdam:20260516T220000
DTSTAMP:20260421T011448
CREATED:20250520T130525Z
LAST-MODIFIED:20260304T214937Z
UID:3128-1778962500-1778968800@viavrij.nl
SUMMARY:Dana Winner - Hartstroom
DESCRIPTION:Hartstroom is Dana ten voeten uit: puur\, oprecht en met een voorliefde voor de kracht van eenvoud. \nTijdens dit persoonlijke theaterconcert brengt ze haar grootste hits terug tot de essentie. \nOok geeft ze indrukwekkende covers een nieuw jasje en maak je kennis met verborgen juweeltjes uit haar rijke repertoire. \nHet belooft een warme\, persoonlijke avond te worden die recht naar je hart gaat.
URL:https://viavrij.nl/event/dana-winner-hartstroom/
LOCATION:Nobelaer ; Etten Leur\, Parklaan 2\, Etten Leur\, Noord Brabant\, 4611 TE
CATEGORIES:theater
ORGANIZER;CN="Via VRij Vrouwenvereniging Rijsbergen":MAILTO:info@viavrij.nl
END:VEVENT
END:VCALENDAR